BEGIN:VCALENDAR
VERSION:2.0
PRODID:-//International Canoe UK - ECPv6.15.20//NONSGML v1.0//EN
CALSCALE:GREGORIAN
METHOD:PUBLISH
X-WR-CALNAME:International Canoe UK
X-ORIGINAL-URL:https://intcanoe.org.uk
X-WR-CALDESC:Events for International Canoe UK
REFRESH-INTERVAL;VALUE=DURATION:PT1H
X-Robots-Tag:noindex
X-PUBLISHED-TTL:PT1H
BEGIN:VTIMEZONE
TZID:UTC
BEGIN:STANDARD
TZOFFSETFROM:+0000
TZOFFSETTO:+0000
TZNAME:UTC
DTSTART:20250101T000000
END:STANDARD
END:VTIMEZONE
BEGIN:VEVENT
DTSTART;TZID=UTC:20260523T080000
DTEND;TZID=UTC:20260525T170000
DTSTAMP:20260420T080112
CREATED:20251213T123202Z
LAST-MODIFIED:20251213T123548Z
UID:1495-1779523200-1779728400@intcanoe.org.uk
SUMMARY:Queen Mary SC - Training Day\, Inland Championships\, Honeypot Trophy Pursuit
DESCRIPTION:Training Day\, Inland Championships\, Honeypot Trophy Pursuit Race
URL:https://intcanoe.org.uk/event/queen-mary-sc-training-day-inland-championships-honeypot-trophy-pursuit/
LOCATION:Queen Mary Sailing Club\, Ashford Road\, Ashford\, Middlesex\, TW15 1UA\, United Kingdom
END:VEVENT
END:VCALENDAR