BEGIN:VCALENDAR
VERSION:2.0
PRODID:-//International Canoe UK - ECPv6.15.20//NONSGML v1.0//EN
CALSCALE:GREGORIAN
METHOD:PUBLISH
X-WR-CALNAME:International Canoe UK
X-ORIGINAL-URL:https://intcanoe.org.uk
X-WR-CALDESC:Events for International Canoe UK
REFRESH-INTERVAL;VALUE=DURATION:PT1H
X-Robots-Tag:noindex
X-PUBLISHED-TTL:PT1H
BEGIN:VTIMEZONE
TZID:UTC
BEGIN:STANDARD
TZOFFSETFROM:+0000
TZOFFSETTO:+0000
TZNAME:UTC
DTSTART:20250101T000000
END:STANDARD
END:VTIMEZONE
BEGIN:VEVENT
DTSTART;TZID=UTC:20260727T080000
DTEND;TZID=UTC:20260801T170000
DTSTAMP:20260422T120316
CREATED:20251213T124320Z
LAST-MODIFIED:20251213T124322Z
UID:1500-1785139200-1785603600@intcanoe.org.uk
SUMMARY:Steinhuder Meer Mardorf\, Germany - Europa Cup
DESCRIPTION:
URL:https://intcanoe.org.uk/event/steinhuder-meer-mardorf-germany-europa-cup/
END:VEVENT
END:VCALENDAR