BEGIN:VCALENDAR
VERSION:2.0
PRODID:-//International Canoe UK - ECPv6.15.20//NONSGML v1.0//EN
CALSCALE:GREGORIAN
METHOD:PUBLISH
X-WR-CALNAME:International Canoe UK
X-ORIGINAL-URL:https://intcanoe.org.uk
X-WR-CALDESC:Events for International Canoe UK
REFRESH-INTERVAL;VALUE=DURATION:PT1H
X-Robots-Tag:noindex
X-PUBLISHED-TTL:PT1H
BEGIN:VTIMEZONE
TZID:UTC
BEGIN:STANDARD
TZOFFSETFROM:+0000
TZOFFSETTO:+0000
TZNAME:UTC
DTSTART:20250101T000000
END:STANDARD
END:VTIMEZONE
BEGIN:VEVENT
DTSTART;TZID=UTC:20260221T080000
DTEND;TZID=UTC:20260222T170000
DTSTAMP:20260422T102602
CREATED:20251213T110310Z
LAST-MODIFIED:20251213T110501Z
UID:1478-1771660800-1771779600@intcanoe.org.uk
SUMMARY:Dinghy and Watersports Show
DESCRIPTION:
URL:https://intcanoe.org.uk/event/dinghy-and-watersports-show-2/
LOCATION:Show Centre ETPS Road Farnborough Hampshire United Kingdom\, Show Centre ETPS Road\, Farnborough\, Hampshire\, United Kingdom
ATTACH;FMTTYPE=image/png:https://intcanoe.org.uk/wp-content/uploads/2023/12/Show-Centre.png
END:VEVENT
END:VCALENDAR